BEGIN:VCALENDAR
VERSION:2.0
PRODID:-//Auburn Chamber of Commerce - ECPv6.15.20//NONSGML v1.0//EN
CALSCALE:GREGORIAN
METHOD:PUBLISH
X-ORIGINAL-URL:https://www.auburnchamberma.org
X-WR-CALDESC:Events for Auburn Chamber of Commerce
REFRESH-INTERVAL;VALUE=DURATION:PT1H
X-Robots-Tag:noindex
X-PUBLISHED-TTL:PT1H
BEGIN:VTIMEZONE
TZID:America/New_York
BEGIN:DAYLIGHT
TZOFFSETFROM:-0500
TZOFFSETTO:-0400
TZNAME:EDT
DTSTART:20240310T070000
END:DAYLIGHT
BEGIN:STANDARD
TZOFFSETFROM:-0400
TZOFFSETTO:-0500
TZNAME:EST
DTSTART:20241103T060000
END:STANDARD
BEGIN:DAYLIGHT
TZOFFSETFROM:-0500
TZOFFSETTO:-0400
TZNAME:EDT
DTSTART:20250309T070000
END:DAYLIGHT
BEGIN:STANDARD
TZOFFSETFROM:-0400
TZOFFSETTO:-0500
TZNAME:EST
DTSTART:20251102T060000
END:STANDARD
BEGIN:DAYLIGHT
TZOFFSETFROM:-0500
TZOFFSETTO:-0400
TZNAME:EDT
DTSTART:20260308T070000
END:DAYLIGHT
BEGIN:STANDARD
TZOFFSETFROM:-0400
TZOFFSETTO:-0500
TZNAME:EST
DTSTART:20261101T060000
END:STANDARD
END:VTIMEZONE
BEGIN:VEVENT
DTSTART;TZID=America/New_York:20250929T100000
DTEND;TZID=America/New_York:20250929T200000
DTSTAMP:20260421T085253
CREATED:20250212T151839Z
LAST-MODIFIED:20250213T160236Z
UID:27624-1759140000-1759176000@www.auburnchamberma.org
SUMMARY:Annual Golf Tournament
DESCRIPTION:The proceeds from the Auburn Chamber of Commerce Golf Tournament go directly to fund the annual Chamber Scholarship Program. The Chamber’s School-Business Partnership has contributed over $375\,000 in scholarships to Auburn seniors heading to college and trade school.
URL:https://www.auburnchamberma.org/event/annual-golf-tournament/
LOCATION:Pleasant Valley Country Club\, 95 Armsby Rd\, Sutton\, MA\, 01590\, United States
CATEGORIES:Golf,Networking,Scholarship
ATTACH;FMTTYPE=image/jpeg:https://www.auburnchamberma.org/wp-content/uploads/2024/01/44134.jpg
ORGANIZER;CN="Auburn Chamber of Commerce":MAILTO:info@auburnmasschamberma.org
END:VEVENT
END:VCALENDAR