BEGIN:VCALENDAR
VERSION:2.0
PRODID:-//Auburn Chamber of Commerce - ECPv6.15.20//NONSGML v1.0//EN
CALSCALE:GREGORIAN
METHOD:PUBLISH
X-WR-CALNAME:Auburn Chamber of Commerce
X-ORIGINAL-URL:https://www.auburnchamberma.org
X-WR-CALDESC:Events for Auburn Chamber of Commerce
REFRESH-INTERVAL;VALUE=DURATION:PT1H
X-Robots-Tag:noindex
X-PUBLISHED-TTL:PT1H
BEGIN:VTIMEZONE
TZID:America/New_York
BEGIN:DAYLIGHT
TZOFFSETFROM:-0500
TZOFFSETTO:-0400
TZNAME:EDT
DTSTART:20250309T070000
END:DAYLIGHT
BEGIN:STANDARD
TZOFFSETFROM:-0400
TZOFFSETTO:-0500
TZNAME:EST
DTSTART:20251102T060000
END:STANDARD
BEGIN:DAYLIGHT
TZOFFSETFROM:-0500
TZOFFSETTO:-0400
TZNAME:EDT
DTSTART:20260308T070000
END:DAYLIGHT
BEGIN:STANDARD
TZOFFSETFROM:-0400
TZOFFSETTO:-0500
TZNAME:EST
DTSTART:20261101T060000
END:STANDARD
BEGIN:DAYLIGHT
TZOFFSETFROM:-0500
TZOFFSETTO:-0400
TZNAME:EDT
DTSTART:20270314T070000
END:DAYLIGHT
BEGIN:STANDARD
TZOFFSETFROM:-0400
TZOFFSETTO:-0500
TZNAME:EST
DTSTART:20271107T060000
END:STANDARD
END:VTIMEZONE
BEGIN:VEVENT
DTSTART;TZID=America/New_York:20260421T160000
DTEND;TZID=America/New_York:20260421T180000
DTSTAMP:20260421T015212
CREATED:20260214T134755Z
LAST-MODIFIED:20260416T135802Z
UID:30288-1776787200-1776794400@www.auburnchamberma.org
SUMMARY:Business Expo
DESCRIPTION:The Auburn Chamber Community Expo is a great opportunity to meet customers\, prospects\, and other Chamber members in a fun and casual environment. The Showcase is free and open to the public to encourage maximum community participation. \nCurrent Vendor List\nFinancial Services\n🔷bankHometown\n🔷Bay State Bank\n🔷Central One Federal Credit Union\n🔷Country Bank\n🔷Millbury Federal Credit Union\n🔷Savers Bank\n🔷Total Mortgage\n🔷Webster First Federal Credit Union \nHealth and Wellness Services\n🔷Accessible Home Health\n🔷Auburn Youth and Family Services\n🔷Brookdale at Eddy Pond\n🔷Central Mass Mobile Massage \nHomes and Home Services\n🔷Capitol Siding & Home Improvement Co\, Inc.\n🔷LeafFilter Gutter Protection\n🔷Lindblom Landscaping and Tree Service\n🔷PuroClean\n🔷Quality Contracting\n🔷Topograph Apartments \nLocal Organizations\n🔷Auburn Chamber of Commerce\n🔷Auburn Lodge of Elks #2118\n🔷Better Business Bureau \nReserve your booth today! To register and for more info visit https://www.auburnchamberma.org/events/expo
URL:https://www.auburnchamberma.org/event/annual-business-expo/
LOCATION:Auburn Mall\, 385 Southbridge St.\, Auburn\, MA\, 01501
CATEGORIES:Community,Networking
ATTACH;FMTTYPE=image/jpeg:https://www.auburnchamberma.org/wp-content/uploads/2026/02/expo-200x300_1.jpg
ORGANIZER;CN="Auburn Chamber of Commerce":MAILTO:info@auburnmasschamberma.org
END:VEVENT
END:VCALENDAR